{"text_format":"1","workbook":"xlsx","n_sheets":4,"sheets":["(読み込みDATA)","(男子)","(女子)","(学校名・大会名)"],"not_rendered":{"charts":0,"images":0,"macros":1,"external_links":0,"defined_names":2,"comments":0,"pivot_tables":0},"unopened":[],"bounds":{"document_bytes":16777216,"sheet_cells":100000,"rows_first":2000,"rows_last":500,"rows_between":2000,"halvings":0,"cell_chars":16384,"cell_head_chars":4096},"cells_cut":0,"cells_raw":0,"read":"whole","date_system":"1900"}

{"sheet":"(読み込みDATA)","index":0,"n_rows":32,"n_cols":14,"rows_kept":32,"cut":false,"hidden":true,"merged":[[0,0,0,13]]}
["このシートの設定は絶対に変更しないでください！\nシート名の変更・シートの移動もしないでください！"]
["学校№","BD","学校№","BS","学校№","BT監督等","BT","学校№","GD","学校№","GS","学校№","GT監督等","GT"]
[{"$f":"'(男子)'!G3","v":""},{"$f":"IF('(男子)'!B23=\"\",\"\",'(男子)'!B23)","v":""},{"$f":"'(男子)'!G3","v":""},{"$f":"IF('(男子)'!K23=\"\",\"\",'(男子)'!K23)","v":""},{"$f":"'(男子)'!G3","v":""},{"$f":"IF('(男子)'!C8=\"\",\"\",'(男子)'!C8)","v":""},{"$f":"IF('(男子)'!B12=\"\",\"\",'(男子)'!B12)","v":""},{"$f":"'(男子)'!G3","v":""},{"$f":"IF('(女子)'!B23=\"\",\"\",'(女子)'!B23)","v":""},{"$f":"'(男子)'!G3","v":""},{"$f":"IF('(女子)'!K23=\"\",\"\",'(女子)'!K23)","v":""},{"$f":"'(男子)'!G3","v":""},{"$f":"IF('(女子)'!C8=\"\",\"\",'(女子)'!C8)","v":""},{"$f":"IF('(女子)'!B12=\"\",\"\",'(女子)'!B12)","v":""}]
[{"$f":"A3","v":""},{"$f":"IF('(男子)'!B24=\"\",\"\",'(男子)'!B24)","v":""},{"$f":"C3","v":""},{"$f":"IF('(男子)'!K24=\"\",\"\",'(男子)'!K24)","v":""},{"$f":"E3","v":""},{"$f":"IF('(男子)'!C9=\"\",\"\",'(男子)'!C9)","v":""},{"$f":"IF('(男子)'!B13=\"\",\"\",'(男子)'!B13)","v":""},{"$f":"H3","v":""},{"$f":"IF('(女子)'!B24=\"\",\"\",'(女子)'!B24)","v":""},{"$f":"J3","v":""},{"$f":"IF('(女子)'!K24=\"\",\"\",'(女子)'!K24)","v":""},{"$f":"L3","v":""},{"$f":"IF('(女子)'!C9=\"\",\"\",'(女子)'!C9)","v":""},{"$f":"IF('(女子)'!B13=\"\",\"\",'(女子)'!B13)","v":""}]
[{"$f":"A4","v":""},{"$f":"IF('(男子)'!B25=\"\",\"\",'(男子)'!B25)","v":""},{"$f":"C4","v":""},{"$f":"IF('(男子)'!K25=\"\",\"\",'(男子)'!K25)","v":""},{"$f":"E4","v":""},{"$f":"IF('(男子)'!C10=\"\",\"\",'(男子)'!C10)","v":""},{"$f":"IF('(男子)'!B14=\"\",\"\",'(男子)'!B14)","v":""},{"$f":"H4","v":""},{"$f":"IF('(女子)'!B25=\"\",\"\",'(女子)'!B25)","v":""},"",{"$f":"IF('(女子)'!K25=\"\",\"\",'(女子)'!K25)","v":""},"",{"$f":"IF('(女子)'!C10=\"\",\"\",'(女子)'!C10)","v":""},{"$f":"IF('(女子)'!B14=\"\",\"\",'(女子)'!B14)","v":""}]
["",{"$f":"IF('(男子)'!B26=\"\",\"\",'(男子)'!B26)","v":""},"",{"$f":"IF('(男子)'!K26=\"\",\"\",'(男子)'!K26)","v":""},"",null,{"$f":"IF('(男子)'!B15=\"\",\"\",'(男子)'!B15)","v":""},"",{"$f":"IF('(女子)'!B26=\"\",\"\",'(女子)'!B26)","v":""},"",{"$f":"IF('(女子)'!K26=\"\",\"\",'(女子)'!K26)","v":""},"",null,{"$f":"IF('(女子)'!B15=\"\",\"\",'(女子)'!B15)","v":""}]
["",{"$f":"IF('(男子)'!B27=\"\",\"\",'(男子)'!B27)","v":""},"",{"$f":"IF('(男子)'!K27=\"\",\"\",'(男子)'!K27)","v":""},"",null,{"$f":"IF('(男子)'!B16=\"\",\"\",'(男子)'!B16)","v":""},"",{"$f":"IF('(女子)'!B27=\"\",\"\",'(女子)'!B27)","v":""},"",{"$f":"IF('(女子)'!K27=\"\",\"\",'(女子)'!K27)","v":""},"",null,{"$f":"IF('(女子)'!B16=\"\",\"\",'(女子)'!B16)","v":""}]
["",{"$f":"IF('(男子)'!B28=\"\",\"\",'(男子)'!B28)","v":""},"",{"$f":"IF('(男子)'!K28=\"\",\"\",'(男子)'!K28)","v":""},"",null,{"$f":"IF('(男子)'!B17=\"\",\"\",'(男子)'!B17)","v":""},"",{"$f":"IF('(女子)'!B28=\"\",\"\",'(女子)'!B28)","v":""},"",{"$f":"IF('(女子)'!K28=\"\",\"\",'(女子)'!K28)","v":""},"",null,{"$f":"IF('(女子)'!B17=\"\",\"\",'(女子)'!B17)","v":""}]
["",{"$f":"IF('(男子)'!B29=\"\",\"\",'(男子)'!B29)","v":""},"",{"$f":"IF('(男子)'!K29=\"\",\"\",'(男子)'!K29)","v":""},"",null,{"$f":"IF('(男子)'!B18=\"\",\"\",'(男子)'!B18)","v":""},"",{"$f":"IF('(女子)'!B29=\"\",\"\",'(女子)'!B29)","v":""},"",{"$f":"IF('(女子)'!K29=\"\",\"\",'(女子)'!K29)","v":""},"",null,{"$f":"IF('(女子)'!B18=\"\",\"\",'(女子)'!B18)","v":""}]
["",{"$f":"IF('(男子)'!B30=\"\",\"\",'(男子)'!B30)","v":""},"",{"$f":"IF('(男子)'!K30=\"\",\"\",'(男子)'!K30)","v":""},"",null,{"$f":"IF('(男子)'!B19=\"\",\"\",'(男子)'!B19)","v":""},"",{"$f":"IF('(女子)'!B30=\"\",\"\",'(女子)'!B30)","v":""},"",{"$f":"IF('(女子)'!K30=\"\",\"\",'(女子)'!K30)","v":""},"",null,{"$f":"IF('(女子)'!B19=\"\",\"\",'(女子)'!B19)","v":""}]
["",{"$f":"IF('(男子)'!B31=\"\",\"\",'(男子)'!B31)","v":""},"",{"$f":"IF('(男子)'!K31=\"\",\"\",'(男子)'!K31)","v":""},"",null,null,"",{"$f":"IF('(女子)'!B31=\"\",\"\",'(女子)'!B31)","v":""},"",{"$f":"IF('(女子)'!K31=\"\",\"\",'(女子)'!K31)","v":""},""]
["",{"$f":"IF('(男子)'!B32=\"\",\"\",'(男子)'!B32)","v":""},"",{"$f":"IF('(男子)'!K32=\"\",\"\",'(男子)'!K32)","v":""},"",null,null,"",{"$f":"IF('(女子)'!B32=\"\",\"\",'(女子)'!B32)","v":""},"",{"$f":"IF('(女子)'!K32=\"\",\"\",'(女子)'!K32)","v":""},""]
["",{"$f":"IF('(男子)'!B33=\"\",\"\",'(男子)'!B33)","v":""},"",{"$f":"IF('(男子)'!K33=\"\",\"\",'(男子)'!K33)","v":""},"",null,null,"",{"$f":"IF('(女子)'!B33=\"\",\"\",'(女子)'!B33)","v":""},"",{"$f":"IF('(女子)'!K33=\"\",\"\",'(女子)'!K33)","v":""},""]
["",{"$f":"IF('(男子)'!B34=\"\",\"\",'(男子)'!B34)","v":""},"",{"$f":"IF('(男子)'!K34=\"\",\"\",'(男子)'!K34)","v":""},"",null,null,"",{"$f":"IF('(女子)'!B34=\"\",\"\",'(女子)'!B34)","v":""},"",{"$f":"IF('(女子)'!K34=\"\",\"\",'(女子)'!K34)","v":""},""]
["",{"$f":"IF('(男子)'!B35=\"\",\"\",'(男子)'!B35)","v":""},"",{"$f":"IF('(男子)'!K35=\"\",\"\",'(男子)'!K35)","v":""},"",null,null,"",{"$f":"IF('(女子)'!B35=\"\",\"\",'(女子)'!B35)","v":""},"",{"$f":"IF('(女子)'!K35=\"\",\"\",'(女子)'!K35)","v":""},""]
["",{"$f":"IF('(男子)'!B36=\"\",\"\",'(男子)'!B36)","v":""},"",{"$f":"IF('(男子)'!K36=\"\",\"\",'(男子)'!K36)","v":""},"",null,null,"",{"$f":"IF('(女子)'!B36=\"\",\"\",'(女子)'!B36)","v":""},"",{"$f":"IF('(女子)'!K36=\"\",\"\",'(女子)'!K36)","v":""},""]
["",{"$f":"IF('(男子)'!B37=\"\",\"\",'(男子)'!B37)","v":""},"",{"$f":"IF('(男子)'!K37=\"\",\"\",'(男子)'!K37)","v":""},"",null,null,"",{"$f":"IF('(女子)'!B37=\"\",\"\",'(女子)'!B37)","v":""},"",{"$f":"IF('(女子)'!K37=\"\",\"\",'(女子)'!K37)","v":""},""]
["",{"$f":"IF('(男子)'!B38=\"\",\"\",'(男子)'!B38)","v":""},"",{"$f":"IF('(男子)'!K38=\"\",\"\",'(男子)'!K38)","v":""},"",null,null,"",{"$f":"IF('(女子)'!B38=\"\",\"\",'(女子)'!B38)","v":""},"",{"$f":"IF('(女子)'!K38=\"\",\"\",'(女子)'!K38)","v":""},""]
["",{"$f":"IF('(男子)'!B39=\"\",\"\",'(男子)'!B39)","v":""},"",{"$f":"IF('(男子)'!K39=\"\",\"\",'(男子)'!K39)","v":""},"",null,null,"",{"$f":"IF('(女子)'!B39=\"\",\"\",'(女子)'!B39)","v":""},"",{"$f":"IF('(女子)'!K39=\"\",\"\",'(女子)'!K39)","v":""},""]
["",{"$f":"IF('(男子)'!B40=\"\",\"\",'(男子)'!B40)","v":""},"",{"$f":"IF('(男子)'!K40=\"\",\"\",'(男子)'!K40)","v":""},"",null,null,"",{"$f":"IF('(女子)'!B40=\"\",\"\",'(女子)'!B40)","v":""},"",{"$f":"IF('(女子)'!K40=\"\",\"\",'(女子)'!K40)","v":""},""]
["",{"$f":"IF('(男子)'!B41=\"\",\"\",'(男子)'!B41)","v":""},"",{"$f":"IF('(男子)'!K41=\"\",\"\",'(男子)'!K41)","v":""},"",null,null,"",{"$f":"IF('(女子)'!B41=\"\",\"\",'(女子)'!B41)","v":""},"",{"$f":"IF('(女子)'!K41=\"\",\"\",'(女子)'!K41)","v":""},""]
["",{"$f":"IF('(男子)'!B42=\"\",\"\",'(男子)'!B42)","v":""},"",{"$f":"IF('(男子)'!K42=\"\",\"\",'(男子)'!K42)","v":""},"",null,null,"",{"$f":"IF('(女子)'!B42=\"\",\"\",'(女子)'!B42)","v":""},"",{"$f":"IF('(女子)'!K42=\"\",\"\",'(女子)'!K42)","v":""},""]
["",{"$f":"IF('(男子)'!B43=\"\",\"\",'(男子)'!B43)","v":""},"",{"$f":"IF('(男子)'!K43=\"\",\"\",'(男子)'!K43)","v":""},"",null,null,"",{"$f":"IF('(女子)'!B43=\"\",\"\",'(女子)'!B43)","v":""},"",{"$f":"IF('(女子)'!K43=\"\",\"\",'(女子)'!K43)","v":""},""]
["",{"$f":"IF('(男子)'!B44=\"\",\"\",'(男子)'!B44)","v":""},"",{"$f":"IF('(男子)'!K44=\"\",\"\",'(男子)'!K44)","v":""},"",null,null,"",{"$f":"IF('(女子)'!B44=\"\",\"\",'(女子)'!B44)","v":""},"",{"$f":"IF('(女子)'!K44=\"\",\"\",'(女子)'!K44)","v":""},""]
["",{"$f":"IF('(男子)'!B45=\"\",\"\",'(男子)'!B45)","v":""},"",{"$f":"IF('(男子)'!K45=\"\",\"\",'(男子)'!K45)","v":""},"",null,null,"",{"$f":"IF('(女子)'!B45=\"\",\"\",'(女子)'!B45)","v":""},"",{"$f":"IF('(女子)'!K45=\"\",\"\",'(女子)'!K45)","v":""},""]
["",{"$f":"IF('(男子)'!B46=\"\",\"\",'(男子)'!B46)","v":""},"",{"$f":"IF('(男子)'!K46=\"\",\"\",'(男子)'!K46)","v":""},"",null,null,"",{"$f":"IF('(女子)'!B46=\"\",\"\",'(女子)'!B46)","v":""},"",{"$f":"IF('(女子)'!K46=\"\",\"\",'(女子)'!K46)","v":""},""]
["",{"$f":"IF('(男子)'!B47=\"\",\"\",'(男子)'!B47)","v":""},"",{"$f":"IF('(男子)'!K47=\"\",\"\",'(男子)'!K47)","v":""},"",null,null,"",{"$f":"IF('(女子)'!B47=\"\",\"\",'(女子)'!B47)","v":""},"",{"$f":"IF('(女子)'!K47=\"\",\"\",'(女子)'!K47)","v":""},""]
["",{"$f":"IF('(男子)'!B48=\"\",\"\",'(男子)'!B48)","v":""},"",{"$f":"IF('(男子)'!K48=\"\",\"\",'(男子)'!K48)","v":""},"",null,null,"",{"$f":"IF('(女子)'!B48=\"\",\"\",'(女子)'!B48)","v":""},"",{"$f":"IF('(女子)'!K48=\"\",\"\",'(女子)'!K48)","v":""},""]
["",{"$f":"IF('(男子)'!B49=\"\",\"\",'(男子)'!B49)","v":""},"",{"$f":"IF('(男子)'!K49=\"\",\"\",'(男子)'!K49)","v":""},"",null,null,"",{"$f":"IF('(女子)'!B49=\"\",\"\",'(女子)'!B49)","v":""},"",{"$f":"IF('(女子)'!K49=\"\",\"\",'(女子)'!K49)","v":""},""]
["",{"$f":"IF('(男子)'!B50=\"\",\"\",'(男子)'!B50)","v":""},"",{"$f":"IF('(男子)'!K50=\"\",\"\",'(男子)'!K50)","v":""},"",null,null,"",{"$f":"IF('(女子)'!B50=\"\",\"\",'(女子)'!B50)","v":""},"",{"$f":"IF('(女子)'!K50=\"\",\"\",'(女子)'!K50)","v":""},""]
["",{"$f":"IF('(男子)'!B51=\"\",\"\",'(男子)'!B51)","v":""},"",{"$f":"IF('(男子)'!K51=\"\",\"\",'(男子)'!K51)","v":""},"",null,null,"",{"$f":"IF('(女子)'!B51=\"\",\"\",'(女子)'!B51)","v":""},"",{"$f":"IF('(女子)'!K51=\"\",\"\",'(女子)'!K51)","v":""},""]
["",{"$f":"IF('(男子)'!B52=\"\",\"\",'(男子)'!B52)","v":""},"",{"$f":"IF('(男子)'!K52=\"\",\"\",'(男子)'!K52)","v":""},"",null,null,"",{"$f":"IF('(女子)'!B52=\"\",\"\",'(女子)'!B52)","v":""},"",{"$f":"IF('(女子)'!K52=\"\",\"\",'(女子)'!K52)","v":""},""]

{"sheet":"(男子)","index":1,"n_rows":52,"n_cols":38,"rows_kept":52,"cut":false,"hidden":false,"merged":[[2,0,2,1],[19,24,19,25],[0,9,0,10],[4,0,4,1],[4,5,4,7],[4,2,4,3],[2,9,2,11],[3,9,3,11],[17,2,17,4],[15,2,15,4],[14,2,14,4],[7,9,7,10],[8,9,8,10],[9,9,9,10],[8,11,8,12],[11,2,11,4],[12,2,12,4],[9,11,9,12],[10,11,10,12],[11,9,11,12],[10,9,10,10],[14,9,14,10],[15,9,15,10],[15,17,15,19],[42,2,42,4],[33,2,33,4],[22,2,22,4],[23,2,23,4],[26,2,26,4],[27,2,27,4],[24,2,24,4],[29,2,29,4],[17,24,17,25],[18,24,18,25],[21,2,21,4],[40,2,40,4],[41,2,41,4],[32,2,32,4],[25,2,25,4],[30,2,30,4],[21,11,21,15],[35,16,35,20],[33,16,33,20],[31,16,31,20],[40,11,40,15],[40,16,40,20],[41,11,41,15],[41,16,41,20],[30,16,30,20],[27,11,27,15],[27,16,27,20],[29,11,29,15],[29,16,29,20],[28,16,28,20],[28,11,28,15],[30,11,30,15],[18,9,18,10],[16,17,16,19],[17,17,17,19],[18,17,18,19],[16,9,16,10],[17,9,17,10],[16,11,16,13],[25,16,25,20],[26,11,26,15],[26,16,26,20],[24,16,24,20],[23,16,23,20],[34,16,34,20],[32,11,32,15],[38,16,38,20],[39,11,39,15],[39,16,39,20],[36,11,36,15],[36,16,36,20],[35,11,35,15],[32,16,32,20],[38,11,38,15],[37,16,37,20],[37,11,37,15],[31,11,31,15],[33,11,33,15],[22,0,23,0],[24,0,25,0],[26,0,27,0],[28,0,29,0],[30,0,31,0],[32,0,33,0],[34,0,35,0],[34,11,34,15],[25,11,25,15],[22,11,22,15],[36,0,37,0],[23,11,23,15],[24,11,24,15],[34,2,34,4],[35,2,35,4],[28,2,28,4],[31,2,31,4],[36,2,36,4],[37,2,37,4],[23,5,23,6],[24,5,24,6],[25,5,25,6],[26,5,26,6],[27,5,27,6],[28,5,28,6],[29,5,29,6],[30,5,30,6],[31,5,31,6],[32,5,32,6],[33,5,33,6],[34,5,34,6],[35,5,35,6],[36,5,36,6],[37,5,37,6],[38,0,39,0],[40,0,41,0],[42,0,43,0],[44,0,45,0],[7,5,9,7],[7,2,7,4],[8,2,8,4],[9,2,9,4],[42,5,42,6],[43,5,43,6],[44,5,44,6],[45,5,45,6],[16,2,16,4],[18,2,18,4],[13,2,13,4],[7,0,7,1],[8,0,8,1],[9,0,9,1],[10,2,10,4],[43,2,43,4],[44,2,44,4],[45,2,45,4],[38,2,38,4],[39,2,39,4],[18,26,18,27],[21,5,21,6],[22,5,22,6],[0,11,0,21],[8,13,8,14],[9,13,9,14],[10,13,10,14],[8,19,8,20],[9,19,9,20],[10,19,10,20],[11,18,11,20],[14,11,14,13],[14,14,14,16],[2,12,2,20],[3,12,3,21],[7,11,7,12],[7,13,7,17],[7,20,7,21],[21,16,21,20],[22,16,22,20],[14,17,14,20],[18,11,18,13],[18,14,18,16],[15,11,15,13],[27,29,27,30],[28,29,28,30],[29,29,29,30],[30,29,30,30],[31,29,31,30],[2,2,2,5],[2,6,2,7],[21,29,21,30],[22,29,22,30],[10,5,10,6],[11,5,11,6],[12,5,12,6],[13,5,13,6],[14,5,14,6],[15,5,15,6],[16,5,16,6],[17,5,17,6],[18,5,18,6],[0,23,15,32],[16,23,16,32],[17,11,17,13],[15,14,15,16],[16,14,16,16],[17,14,17,16],[45,29,45,30],[46,29,46,30],[47,29,47,30],[48,29,48,30],[45,11,45,15],[45,16,45,20],[43,11,43,15],[43,16,43,20],[44,11,44,15],[44,16,44,20],[47,0,51,21],[50,29,50,30],[51,29,51,30],[49,29,49,30],[38,5,38,6],[39,5,39,6],[40,5,40,6],[0,3,0,7],[41,5,41,6],[41,29,41,30],[42,29,42,30],[43,29,43,30],[44,29,44,30],[42,11,42,15],[42,16,42,20],[32,29,32,30],[33,29,33,30],[34,29,34,30],[35,29,35,30],[36,29,36,30],[37,29,37,30],[38,29,38,30],[39,29,39,30],[40,29,40,30],[23,29,23,30],[24,29,24,30],[25,29,25,30],[26,29,26,30]]}
["令和",null,"年度","バドミントン大会参加申込書",null,null,null,null,null,"大会名",null,null,null,null,null,null,null,null,null,null,null,null,null,"　記入上の注意　※よく読んで間違いのないようにしてください\n\n　　１．年度を入力し、学校名・大会名をリストから選択\n　　２．申込責任者・連絡先TELを入力\n　　３．選手名簿の入力\n　　　①選手氏名・フリガナ・学年を入力\n　　　　※氏名はスペースを含めて全角７文字です（全角７文字を超える場合は下を参照）\n　　　　※途中に空欄の行がないように詰めて入力してください\n　　　　※誤字はそのまま登録されるので注意してください\n　　　　※フリガナは全角で入力してください\n　　４．団体戦の入力（実施がない大会は不要）\n　　　①監督・コーチ・マネージャーを入力\n　　　　※スペースを含めて全角７文字、それぞれ１名までです\n　　　②選手名簿をもとに№を入力\n　　　　※表示される選手名を確認してください\n　　５．個人戦の入力\n　　　①校内ランキング順に№を入力\n　　　　※表示される選手名を確認してください\n　　６．大会参加料の確認\n\n　・年度、学校名、大会名、選手名簿は男子のシートに入力すると女子のシートにも表示されます"]
[null,null,null,null,null,null,null,null,null,null,null,null,null,null,null,null,null,null,null,null,null,null,null,null,null,null,null,null,null,null,null,null,null,null,{"$f":"IF('(学校名・大会名)'!C5=\"\",\"\",'(学校名・大会名)'!C5)","v":"小樽潮陵高等学校"},101,1,{"$f":"'(学校名・大会名)'!F5","v":"高体連小樽支部バドミントン選手権大会"}]
["学校名",null,null,null,null,null,{"$f":"IFERROR(VLOOKUP(C3,AI2:AJ31,2,0),\"\")","v":""},null,null,"申込責任者",null,null,null,null,null,null,null,null,null,null,null,"印",null,null,null,null,null,null,null,null,null,null,null,null,{"$f":"IF('(学校名・大会名)'!C6=\"\",\"\",'(学校名・大会名)'!C6)","v":"小樽桜陽高等学校"},102,2,{"$f":"'(学校名・大会名)'!F6","v":"小樽地区高校春季バドミントン選手権大会"}]
[null,null,null,null,null,null,null,null,null,"連絡先TEL",null,null,null,null,null,null,null,null,null,null,null,null,null,null,null,null,null,null,null,null,null,null,null,null,{"$f":"IF('(学校名・大会名)'!C7=\"\",\"\",'(学校名・大会名)'!C7)","v":"小樽未来創造高等学校"},103,3,{"$f":"'(学校名・大会名)'!F7","v":"小樽地区バドミントン選手権大会（高校の部）"}]
["男女",null,"男子=1 女子=2",null,1,{"$f":"IF(E5=1,\"男　　子\",IF(E5=2,\"女　　子\",\"\"))","v":"男　　子"},null,null,null,null,null,null,null,null,null,null,null,null,null,null,null,null,null,null,null,null,null,null,null,null,null,null,null,null,{"$f":"IF('(学校名・大会名)'!C8=\"\",\"\",'(学校名・大会名)'!C8)","v":"小樽水産高等学校"},104,4,{"$f":"'(学校名・大会名)'!F8","v":"小樽市民大会バドミントン競技会（高校の部）"}]
[null,null,null,null,null,null,null,null,null,null,null,null,null,null,null,null,null,null,null,null,null,null,null,null,null,null,null,null,null,null,null,null,null,null,{"$f":"IF('(学校名・大会名)'!C9=\"\",\"\",'(学校名・大会名)'!C9)","v":"北照高等学校"},105,5,{"$f":"'(学校名・大会名)'!F9","v":"後志地区バドミントン大会（新人戦）"}]
["【団　体】",null,null,null,null,null,null,null,null,"【参加料(男子)】",null,null,null,null,null,null,null,null,null,null,null,null,null,null,null,null,null,null,null,null,null,null,null,null,{"$f":"IF('(学校名・大会名)'!C10=\"\",\"\",'(学校名・大会名)'!C10)","v":"小樽明峰高等学校"},106,6,{"$f":"'(学校名・大会名)'!F10","v":"小樽地区高校秋季バドミントン選手権大会"}]
["監督",null,null,null,null,"←スペースを含めて\n７文字でお願いします\n(それぞれ１名までです)",null,null,null,"種目",null,"参加〇",null,"参加数",null,null,null,null,null,"・","金　額",null,null,null,null,null,null,null,null,null,null,null,null,null,{"$f":"IF('(学校名・大会名)'!C11=\"\",\"\",'(学校名・大会名)'!C11)","v":"小樽双葉高等学校"},107,7,{"$f":"'(学校名・大会名)'!F11","v":"小樽冬季バドミントン大会（高校の部）"}]
["コーチ",null,null,null,null,null,null,null,null,"団体",null,{"$f":"IF(B12=\"\",\"\",\"〇\")","v":""},null,9000,null,"円",null,null,null,{"$f":"IF(L9=\"\",\"\",9000)","v":""},null,"円",null,null,null,null,null,null,null,null,null,null,null,null,{"$f":"IF('(学校名・大会名)'!C12=\"\",\"\",'(学校名・大会名)'!C12)","v":"北海道高等聾学校"},108,8,{"$f":"'(学校名・大会名)'!F12","v":0}]
["ﾏﾈｰｼﾞｬｰ",null,null,null,null,null,null,null,null,"ダブルス",null,{"$f":"IF(B23=\"\",\"\",\"〇\")","v":""},null,2200,null,"円","×",{"$f":"COUNTA(B23:B46)/2","v":0},"組=",{"$f":"IF(L10=\"\",\"\",N10*R10)","v":""},null,"円",null,null,null,null,null,null,null,null,null,null,null,null,{"$f":"IF('(学校名・大会名)'!C13=\"\",\"\",'(学校名・大会名)'!C13)","v":"寿都高等学校"},109,9,{"$f":"'(学校名・大会名)'!F13","v":0}]
["選手","№","選手氏名",null,null,"フリガナ",null,"学年",null,"シングルス",null,{"$f":"IF(K23=\"\",\"\",\"〇\")","v":""},null,1100,null,"円","×",{"$f":"COUNTA(K23:K46)","v":0},"人=",{"$f":"IF(L11=\"\",\"\",N11*R11)","v":""},null,"円",null,null,null,null,null,null,null,null,null,null,null,null,{"$f":"IF('(学校名・大会名)'!C14=\"\",\"\",'(学校名・大会名)'!C14)","v":"蘭越高等学校"},110,10,{"$f":"'(学校名・大会名)'!F14","v":0}]
["①",null,{"$f":"IF(B12=\"\",\"\",IF($E$5=1,VLOOKUP(B12,$X$23:$AA$52,2),VLOOKUP(B12,$AC$23:$AG$52,2)))","v":""},null,null,{"$f":"IF(B12=\"\",\"\",IF($E$5=1,VLOOKUP(B12,$X$23:$AA$52,3),VLOOKUP(B12,$AC$23:$AG$52,3)))","v":""},null,{"$f":"IF(B12=\"\",\"\",IF($E$5=1,VLOOKUP(B12,$X$23:$AA$52,4),VLOOKUP(B12,$AC$23:$AG$52,4)))","v":""},null,"合　　　計",null,null,null,null,null,null,null,null,{"$f":"SUM(T9:U11)","v":0},null,null,"円",null,null,null,null,null,null,null,null,null,null,null,null,{"$f":"IF('(学校名・大会名)'!C15=\"\",\"\",'(学校名・大会名)'!C15)","v":"倶知安高等学校"},111,11,{"$f":"'(学校名・大会名)'!F15","v":0}]
[2,null,"",null,null,{"$f":"IF(B13=\"\",\"\",IF($E$5=1,VLOOKUP(B13,$X$23:$AA$52,3),VLOOKUP(B13,$AC$23:$AG$52,3)))","v":""},null,"",null,null,null,null,null,null,null,null,null,null,null,null,null,null,null,null,null,null,null,null,null,null,null,null,null,null,{"$f":"IF('(学校名・大会名)'!C16=\"\",\"\",'(学校名・大会名)'!C16)","v":"岩内高等学校"},112,12,{"$f":"'(学校名・大会名)'!F16","v":0}]
[3,null,"",null,null,"",null,"",null,"【参加料(男女計)】",null,null,null,null,null,null,null,null,null,null,null,null,null,null,null,null,null,null,null,null,null,null,null,null,{"$f":"IF('(学校名・大会名)'!C17=\"\",\"\",'(学校名・大会名)'!C17)","v":"余市紅志高等学校"},113,13,{"$f":"'(学校名・大会名)'!F17","v":0}]
[4,null,"",null,null,"",null,"",null,"種目",null,"男子",null,null,"女子",null,null,"合計",null,null,null,null,null,null,null,null,null,null,null,null,null,null,null,null,{"$f":"IF('(学校名・大会名)'!C18=\"\",\"\",'(学校名・大会名)'!C18)","v":"留寿都高等学校"},114,14,{"$f":"'(学校名・大会名)'!F18","v":0}]
[5,null,"",null,null,"",null,"",null,"団体",null,{"$f":"T9","v":""},null,null,{"$f":"'(女子)'!T9","v":""},null,null,{"$f":"SUM(L16:Q16)","v":0},null,null,"円",null,null,null,null,null,null,null,null,null,null,null,null,null,{"$f":"IF('(学校名・大会名)'!C19=\"\",\"\",'(学校名・大会名)'!C19)","v":"ニセコ高等学校"},115,15,{"$f":"'(学校名・大会名)'!F19","v":0}]
[6,null,"",null,null,"",null,"",null,"ダブルス",null,{"$f":"T10","v":""},null,null,{"$f":"'(女子)'!T10","v":""},null,null,{"$f":"SUM(L17:Q17)","v":0},null,null,"円",null,null,"※全角７文字を超える選手名については下に入力し【実行】ボタンを押してください",null,null,null,null,null,null,null,null,null,null,{"$f":"IF('(学校名・大会名)'!C20=\"\",\"\",'(学校名・大会名)'!C20)","v":"倶知安農業高等学校"},116,null,{"$f":"COUNTA(AL2:AL16)-COUNTIF(AL2:AL16,0)","v":7}]
[7,null,"",null,null,"",null,"",null,"シングルス",null,{"$f":"T11","v":""},null,null,{"$f":"'(女子)'!T11","v":""},null,null,0,null,null,"円",null,null,null,null,null,null,null,null,null,null,null,null,null,{"$f":"IF('(学校名・大会名)'!C21=\"\",\"\",'(学校名・大会名)'!C21)","v":"北星学園余市高等学校"},117]
[8,null,"",null,null,"",null,"",null,"合計",null,{"$f":"S12","v":0},null,null,{"$f":"'(女子)'!S12","v":0},null,null,0,null,null,"円",null,null,null,"男女(男子=1:女子=2)",null,null,null,"№",null,"選手氏名",null,null,null,{"$f":"IF('(学校名・大会名)'!C22=\"\",\"\",'(学校名・大会名)'!C22)","v":""},118]
[null,null,null,null,null,null,null,null,null,null,null,null,null,null,null,null,null,null,null,null,null,null,null,null,null,null,null,null,null,null,null,null,null,null,{"$f":"IF('(学校名・大会名)'!C23=\"\",\"\",'(学校名・大会名)'!C23)","v":""},119]
["【ダブルス】　校内ランク順に記入してください。",null,null,null,null,null,null,null,null,"【シングルス】　校内ランク順に記入してください。",null,null,null,null,null,null,null,null,null,null,null,null,null,"【選手名簿（男子）】",null,null,null,null,"【選手名簿（女子）】",null,null,null,null,null,{"$f":"IF('(学校名・大会名)'!C24=\"\",\"\",'(学校名・大会名)'!C24)","v":""},120]
["順位","№","選手氏名",null,null,"フリガナ",null,"学年",null,"順位","№","選手氏名",null,null,null,null,"フリガナ",null,null,null,null,"学年",null,"№","選手氏名","フリガナ(全角)","学年",null,"№","選手氏名",null,"フリガナ(全角)","学年",null,{"$f":"IF('(学校名・大会名)'!C25=\"\",\"\",'(学校名・大会名)'!C25)","v":""},121]
["D1",null,{"$f":"IF(B23=\"\",\"\",IF($E$5=1,VLOOKUP(B23,$X$23:$AA$52,2),VLOOKUP(B23,$AC$23:$AG$52,2)))","v":""},null,null,{"$f":"IF(B23=\"\",\"\",IF($E$5=1,VLOOKUP(B23,$X$23:$AA$52,3),VLOOKUP(B23,$AC$23:$AG$52,3)))","v":""},null,{"$f":"IF(B23=\"\",\"\",IF($E$5=1,VLOOKUP(B23,$X$23:$AA$52,4),VLOOKUP(B23,$AC$23:$AG$52,4)))","v":""},null,"S1",null,{"$f":"IF(K23=\"\",\"\",IF($E$5=1,VLOOKUP(K23,$X$23:$AA$52,2),VLOOKUP(K23,$AC$23:$AG$52,2)))","v":""},null,null,null,null,{"$f":"IF(K23=\"\",\"\",IF($E$5=1,VLOOKUP(K23,$X$23:$AA$52,3),VLOOKUP(K23,$AC$23:$AG$52,3)))","v":""},null,null,null,null,{"$f":"IF(K23=\"\",\"\",IF($E$5=1,VLOOKUP(K23,$X$23:$AA$52,4),VLOOKUP(K23,$AC$23:$AG$52,4)))","v":""},null,1,null,null,null,null,1,null,null,null,null,null,{"$f":"IF('(学校名・大会名)'!C26=\"\",\"\",'(学校名・大会名)'!C26)","v":""},122]
[null,null,"",null,null,{"$f":"IF(B24=\"\",\"\",IF($E$5=1,VLOOKUP(B24,$X$23:$AA$52,3),VLOOKUP(B24,$AC$23:$AG$52,3)))","v":""},null,"",null,"S2",null,"",null,null,null,null,"",null,null,null,null,"",null,2,null,null,null,null,2,null,null,null,null,null,{"$f":"IF('(学校名・大会名)'!C27=\"\",\"\",'(学校名・大会名)'!C27)","v":""},123]
["D2",null,"",null,null,{"$f":"IF(B25=\"\",\"\",IF($E$5=1,VLOOKUP(B25,$X$23:$AA$52,3),VLOOKUP(B25,$AC$23:$AG$52,3)))","v":""},null,"",null,"S3",null,"",null,null,null,null,"",null,null,null,null,"",null,3,null,null,null,null,3,null,null,null,null,null,{"$f":"IF('(学校名・大会名)'!C28=\"\",\"\",'(学校名・大会名)'!C28)","v":""},124]
[null,null,"",null,null,"",null,"",null,"S4",null,"",null,null,null,null,"",null,null,null,null,"",null,4,null,null,null,null,4,null,null,null,null,null,{"$f":"IF('(学校名・大会名)'!C29=\"\",\"\",'(学校名・大会名)'!C29)","v":""},125]
["D3",null,"",null,null,"",null,"",null,"S5",null,"",null,null,null,null,"",null,null,null,null,"",null,5,null,null,null,null,5,null,null,null,null,null,{"$f":"IF('(学校名・大会名)'!C30=\"\",\"\",'(学校名・大会名)'!C30)","v":""},126]
[null,null,"",null,null,"",null,"",null,"S6",null,"",null,null,null,null,"",null,null,null,null,"",null,6,null,null,null,null,6,null,null,null,null,null,{"$f":"IF('(学校名・大会名)'!C31=\"\",\"\",'(学校名・大会名)'!C31)","v":""},127]
["D4",null,"",null,null,"",null,"",null,"S7",null,"",null,null,null,null,"",null,null,null,null,"",null,7,null,null,null,null,7,null,null,null,null,null,{"$f":"IF('(学校名・大会名)'!C32=\"\",\"\",'(学校名・大会名)'!C32)","v":""},128]
[null,null,"",null,null,"",null,"",null,"S8",null,"",null,null,null,null,"",null,null,null,null,"",null,8,null,null,null,null,8,null,null,null,null,null,{"$f":"IF('(学校名・大会名)'!C33=\"\",\"\",'(学校名・大会名)'!C33)","v":""},129]
["D5",null,"",null,null,"",null,"",null,"S9",null,"",null,null,null,null,"",null,null,null,null,"",null,9,null,null,null,null,9,null,null,null,null,null,{"$f":"IF('(学校名・大会名)'!C34=\"\",\"\",'(学校名・大会名)'!C34)","v":""},130]
[null,null,"",null,null,"",null,"",null,"S10",null,"",null,null,null,null,"",null,null,null,null,"",null,10,null,null,null,null,10,null,null,null,null,null,{"$f":"'(学校名・大会名)'!C35","v":17}]
["D6",null,"",null,null,"",null,"",null,"S11",null,"",null,null,null,null,"",null,null,null,null,"",null,11,null,null,null,null,11]
[null,null,"",null,null,"",null,"",null,"S12",null,"",null,null,null,null,"",null,null,null,null,"",null,12,null,null,null,null,12]
["D7",null,"",null,null,"",null,"",null,"S13",null,"",null,null,null,null,"",null,null,null,null,"",null,13,null,null,null,null,13]
[null,null,"",null,null,"",null,"",null,"S14",null,"",null,null,null,null,"",null,null,null,null,"",null,14,null,null,null,null,14]
["D8",null,"",null,null,"",null,"",null,"S15",null,"",null,null,null,null,"",null,null,null,null,"",null,15,null,null,null,null,15]
[null,null,"",null,null,"",null,"",null,"S16",null,"",null,null,null,null,"",null,null,null,null,"",null,16,null,null,null,null,16]
["D9",null,"",null,null,"",null,"",null,"S17",null,"",null,null,null,null,"",null,null,null,null,"",null,17,null,null,null,null,17]
[null,null,"",null,null,"",null,"",null,"S18",null,"",null,null,null,null,"",null,null,null,null,"",null,18,null,null,null,null,18]
["D10",null,"",null,null,"",null,"",null,"S19",null,"",null,null,null,null,"",null,null,null,null,"",null,19,null,null,null,null,19]
[null,null,"",null,null,"",null,"",null,"S20",null,"",null,null,null,null,"",null,null,null,null,"",null,20,null,null,null,null,20]
["D11",null,"",null,null,"",null,"",null,"S21",null,"",null,null,null,null,"",null,null,null,null,"",null,21,null,null,null,null,21]
[null,null,"",null,null,"",null,"",null,"S22",null,"",null,null,null,null,"",null,null,null,null,"",null,22,null,null,null,null,22]
["D12",null,"",null,null,"",null,"",null,"S23",null,"",null,null,null,null,"",null,null,null,null,"",null,23,null,null,null,null,23]
[null,null,"",null,null,"",null,"",null,"S24",null,"",null,null,null,null,"",null,null,null,null,"",null,24,null,null,null,null,24]
[null,null,null,null,null,null,null,null,null,null,null,null,null,null,null,null,null,null,null,null,null,null,null,25,null,null,null,null,25]
["このシートに行を追加したり、新しいシートを挿入したりは絶対にしないでください。\n\n選手の人数が３０名を超える、ダブルスの参加が１２組を超える、シングルスの参加が２４名を超える場合は\nこのエクセルファイルをそのままコピーして「〇〇高校2」などと名前を付けてください。\nその場合は選手名簿の№が続き番号になるように留意してください。",null,null,null,null,null,null,null,null,null,null,null,null,null,null,null,null,null,null,null,null,null,null,26,null,null,null,null,26]
[null,null,null,null,null,null,null,null,null,null,null,null,null,null,null,null,null,null,null,null,null,null,null,27,null,null,null,null,27]
[null,null,null,null,null,null,null,null,null,null,null,null,null,null,null,null,null,null,null,null,null,null,null,28,null,null,null,null,28]
[null,null,null,null,null,null,null,null,null,null,null,null,null,null,null,null,null,null,null,null,null,null,null,29,null,null,null,null,29]
[null,null,null,null,null,null,null,null,null,null,null,null,null,null,null,null,null,null,null,null,null,null,null,30,null,null,null,null,30]

{"sheet":"(女子)","index":2,"n_rows":52,"n_cols":32,"rows_kept":52,"cut":false,"hidden":false,"merged":[[45,2,45,4],[45,11,45,15],[45,16,45,20],[43,2,43,4],[43,11,43,15],[43,16,43,20],[42,11,42,15],[42,2,42,4],[40,5,40,6],[41,5,41,6],[42,5,42,6],[40,2,40,4],[40,11,40,15],[40,16,40,20],[41,2,41,4],[41,11,41,15],[42,16,42,20],[41,16,41,20],[44,2,44,4],[44,11,44,15],[44,16,44,20],[44,5,44,6],[45,5,45,6],[38,11,38,15],[38,16,38,20],[39,2,39,4],[39,11,39,15],[39,16,39,20],[36,2,36,4],[36,11,36,15],[36,16,36,20],[37,2,37,4],[37,11,37,15],[37,16,37,20],[36,5,36,6],[37,5,37,6],[38,5,38,6],[39,5,39,6],[34,11,34,15],[34,16,34,20],[35,2,35,4],[35,11,35,15],[35,16,35,20],[32,2,32,4],[32,11,32,15],[32,16,32,20],[33,2,33,4],[33,11,33,15],[33,16,33,20],[32,5,32,6],[33,5,33,6],[34,5,34,6],[35,5,35,6],[30,11,30,15],[30,16,30,20],[31,2,31,4],[31,11,31,15],[31,16,31,20],[28,2,28,4],[28,11,28,15],[28,16,28,20],[29,11,29,15],[29,16,29,20],[29,2,29,4],[29,5,29,6],[30,5,30,6],[31,5,31,6],[22,11,22,15],[22,16,22,20],[23,2,23,4],[23,11,23,15],[23,16,23,20],[17,2,17,4],[26,11,26,15],[26,16,26,20],[27,2,27,4],[27,11,27,15],[27,16,27,20],[24,2,24,4],[24,11,24,15],[24,16,24,20],[25,2,25,4],[25,11,25,15],[25,16,25,20],[0,23,17,31],[14,2,14,4],[9,0,9,1],[10,2,10,4],[11,2,11,4],[10,11,10,12],[11,9,11,12],[10,9,10,10],[10,13,10,14],[10,19,10,20],[11,18,11,20],[7,5,9,7],[8,11,8,12],[8,13,8,14],[8,19,8,20],[9,9,9,10],[9,11,9,12],[9,13,9,14],[9,19,9,20],[0,3,0,7],[0,9,0,10],[2,9,2,11],[3,9,3,11],[12,2,12,4],[2,12,2,20],[3,12,3,21],[4,0,4,1],[2,0,2,1],[2,2,2,5],[2,6,2,7],[4,5,4,7],[22,0,23,0],[24,0,25,0],[12,12,12,20],[13,2,13,4],[15,2,15,4],[8,0,8,1],[7,0,7,1],[7,2,7,4],[8,2,8,4],[9,2,9,4],[4,2,4,3],[18,2,18,4],[21,2,21,4],[21,11,21,15],[21,16,21,20],[16,2,16,4],[22,2,22,4],[26,0,27,0],[28,0,29,0],[30,0,31,0],[32,0,33,0],[26,2,26,4],[30,2,30,4],[43,5,43,6],[40,0,41,0],[42,0,43,0],[34,0,35,0],[36,0,37,0],[38,0,39,0],[34,2,34,4],[38,2,38,4],[44,0,45,0],[0,11,0,21],[10,5,10,6],[11,5,11,6],[12,5,12,6],[13,5,13,6],[14,5,14,6],[15,5,15,6],[16,5,16,6],[17,5,17,6],[18,5,18,6],[21,5,21,6],[22,5,22,6],[23,5,23,6],[24,5,24,6],[25,5,25,6],[26,5,26,6],[27,5,27,6],[28,5,28,6],[7,9,7,10],[7,11,7,12],[7,13,7,17],[7,20,7,21],[8,9,8,10]]}
["令和",{"$f":"IF('(男子)'!B1=\"\",\"\",'(男子)'!B1)","v":""},"年度","バドミントン大会参加申込書",null,null,null,null,null,"大会名",null,{"$f":"IF('(男子)'!L1=\"\",\"\",'(男子)'!L1)","v":""},null,null,null,null,null,null,null,null,null,null,null,"男子のシートに必要事項を入力したのちに\n女子の入力をしてください\n\n参加が女子のみの場合も年度、学校名、大会名、選手名簿などの\n基本事項は男子のシートに入力になります"]
[]
["学校名",null,{"$f":"IF('(男子)'!C3=\"\",\"\",'(男子)'!C3)","v":""},null,null,null,{"$f":"'(男子)'!G3","v":""},null,null,"申込責任者",null,null,null,null,null,null,null,null,null,null,null,"印"]
[null,null,null,null,null,null,null,null,null,"連絡先TEL"]
["男女",null,"男子=1 女子=2",null,2,{"$f":"IF(E5=1,\"男　　子\",IF(E5=2,\"女　　子\",\"\"))","v":"女　　子"}]
[]
["【団　体】",null,null,null,null,null,null,null,null,"【参加料(女子)】"]
["監督",null,null,null,null,"←スペースを含めて\n７文字でお願いします\n(それぞれ１名までです)",null,null,null,"種目",null,"参加〇",null,"参加数",null,null,null,null,null,"・","金　額"]
["コーチ",null,null,null,null,null,null,null,null,"団体",null,{"$f":"IF(B12=\"\",\"\",\"〇\")","v":""},null,{"$f":"'(男子)'!N9:O9","v":9000},null,"円",null,null,null,{"$f":"IF(L9=\"\",\"\",9000)","v":""},null,"円"]
["ﾏﾈｰｼﾞｬｰ",null,null,null,null,null,null,null,null,"ダブルス",null,{"$f":"IF(B23=\"\",\"\",\"〇\")","v":""},null,{"$f":"'(男子)'!N10:O10","v":2200},null,"円","×",{"$f":"COUNTA(B23:B46)/2","v":0},"組=",{"$f":"IF(L10=\"\",\"\",N10*R10)","v":""},null,"円"]
["選手","№","選手氏名",null,null,"フリガナ",null,"学年",null,"シングルス",null,{"$f":"IF(K23=\"\",\"\",\"〇\")","v":""},null,{"$f":"'(男子)'!N11:O11","v":1100},null,"円","×",{"$f":"COUNTA(K23:K46)","v":0},"人=",{"$f":"IF(L11=\"\",\"\",N11*R11)","v":""},null,"円"]
["①",null,{"$f":"IF(B12=\"\",\"\",IF($E$5=1,VLOOKUP(B12,$X$23:$AA$52,2),VLOOKUP(B12,$AC$23:$AF$52,2)))","v":""},null,null,{"$f":"IF(B12=\"\",\"\",IF($E$5=1,VLOOKUP(B12,$X$23:$AA$52,3),VLOOKUP(B12,$AC$23:$AF$52,3)))","v":""},null,{"$f":"IF(B12=\"\",\"\",IF($E$5=1,VLOOKUP(B12,$X$23:$AA$52,4),VLOOKUP(B12,$AC$23:$AF$52,4)))","v":""},null,"合　　　計",null,null,null,null,null,null,null,null,{"$f":"SUM(T9:U11)","v":0},null,null,"円"]
[2,null,"",null,null,{"$f":"IF(B13=\"\",\"\",IF($E$5=1,VLOOKUP(B13,$X$23:$AA$52,3),VLOOKUP(B13,$AC$23:$AF$52,3)))","v":""},null,"",null,7]
[3,null,"",null,null,"",null,""]
[4,null,"",null,null,"",null,""]
[5,null,"",null,null,"",null,""]
[6,null,"",null,null,"",null,""]
[7,null,"",null,null,"",null,""]
[8,null,"",null,null,"",null,""]
[]
["【ダブルス】　校内ランク順に記入してください。",null,null,null,null,null,null,null,null,"【シングルス】　校内ランク順に記入してください。",null,null,null,null,null,null,null,null,null,null,null,null,null,"【選手名簿（男子）】",null,null,null,null,"【選手名簿（女子）】"]
["順位","№","選手氏名",null,null,"フリガナ",null,"学年",null,"順位","№","選手氏名",null,null,null,null,"フリガナ",null,null,null,null,"学年",null,"№","選手氏名","フリガナ(全角)","学年",null,"№","選手氏名","フリガナ(全角)","学年"]
["D1",null,{"$f":"IF(B23=\"\",\"\",IF($E$5=1,VLOOKUP(B23,$X$23:$AA$52,2),VLOOKUP(B23,$AC$23:$AF$52,2)))","v":""},null,null,{"$f":"IF(B23=\"\",\"\",IF($E$5=1,VLOOKUP(B23,$X$23:$AA$52,3),VLOOKUP(B23,$AC$23:$AF$52,3)))","v":""},null,{"$f":"IF(B23=\"\",\"\",IF($E$5=1,VLOOKUP(B23,$X$23:$AA$52,4),VLOOKUP(B23,$AC$23:$AF$52,4)))","v":""},null,"S1",null,{"$f":"IF(K23=\"\",\"\",IF($E$5=1,VLOOKUP(K23,$X$23:$AA$52,2),VLOOKUP(K23,$AC$23:$AF$52,2)))","v":""},null,null,null,null,{"$f":"IF(K23=\"\",\"\",IF($E$5=1,VLOOKUP(K23,$X$23:$AA$52,3),VLOOKUP(K23,$AC$23:$AF$52,3)))","v":""},null,null,null,null,{"$f":"IF(K23=\"\",\"\",IF($E$5=1,VLOOKUP(K23,$X$23:$AA$52,4),VLOOKUP(K23,$AC$23:$AF$52,4)))","v":""},null,1,{"$f":"'(男子)'!Y23","v":0},{"$f":"'(男子)'!Z23","v":0},{"$f":"'(男子)'!AA23","v":0},null,1,{"$f":"'(男子)'!AD23","v":0},{"$f":"'(男子)'!AF23","v":0},{"$f":"'(男子)'!AG23","v":0}]
[null,null,"",null,null,{"$f":"IF(B24=\"\",\"\",IF($E$5=1,VLOOKUP(B24,$X$23:$AA$52,3),VLOOKUP(B24,$AC$23:$AF$52,3)))","v":""},null,"",null,"S2",null,"",null,null,null,null,"",null,null,null,null,"",null,2,{"$f":"'(男子)'!Y24","v":0},{"$f":"'(男子)'!Z24","v":0},{"$f":"'(男子)'!AA24","v":0},null,2,{"$f":"'(男子)'!AD24","v":0},{"$f":"'(男子)'!AF24","v":0},{"$f":"'(男子)'!AG24","v":0}]
["D2",null,"",null,null,{"$f":"IF(B25=\"\",\"\",IF($E$5=1,VLOOKUP(B25,$X$23:$AA$52,3),VLOOKUP(B25,$AC$23:$AF$52,3)))","v":""},null,"",null,"S3",null,"",null,null,null,null,"",null,null,null,null,"",null,3,{"$f":"'(男子)'!Y25","v":0},{"$f":"'(男子)'!Z25","v":0},{"$f":"'(男子)'!AA25","v":0},null,3,{"$f":"'(男子)'!AD25","v":0},{"$f":"'(男子)'!AF25","v":0},{"$f":"'(男子)'!AG25","v":0}]
[null,null,"",null,null,"",null,"",null,"S4",null,"",null,null,null,null,"",null,null,null,null,"",null,4,{"$f":"'(男子)'!Y26","v":0},{"$f":"'(男子)'!Z26","v":0},{"$f":"'(男子)'!AA26","v":0},null,4,{"$f":"'(男子)'!AD26","v":0},{"$f":"'(男子)'!AF26","v":0},{"$f":"'(男子)'!AG26","v":0}]
["D3",null,"",null,null,"",null,"",null,"S5",null,"",null,null,null,null,"",null,null,null,null,"",null,5,{"$f":"'(男子)'!Y27","v":0},{"$f":"'(男子)'!Z27","v":0},{"$f":"'(男子)'!AA27","v":0},null,5,{"$f":"'(男子)'!AD27","v":0},{"$f":"'(男子)'!AF27","v":0},{"$f":"'(男子)'!AG27","v":0}]
[null,null,"",null,null,"",null,"",null,"S6",null,"",null,null,null,null,"",null,null,null,null,"",null,6,{"$f":"'(男子)'!Y28","v":0},{"$f":"'(男子)'!Z28","v":0},{"$f":"'(男子)'!AA28","v":0},null,6,{"$f":"'(男子)'!AD28","v":0},{"$f":"'(男子)'!AF28","v":0},{"$f":"'(男子)'!AG28","v":0}]
["D4",null,"",null,null,"",null,"",null,"S7",null,"",null,null,null,null,"",null,null,null,null,"",null,7,{"$f":"'(男子)'!Y29","v":0},{"$f":"'(男子)'!Z29","v":0},{"$f":"'(男子)'!AA29","v":0},null,7,{"$f":"'(男子)'!AD29","v":0},{"$f":"'(男子)'!AF29","v":0},{"$f":"'(男子)'!AG29","v":0}]
[null,null,"",null,null,"",null,"",null,"S8",null,"",null,null,null,null,"",null,null,null,null,"",null,8,{"$f":"'(男子)'!Y30","v":0},{"$f":"'(男子)'!Z30","v":0},{"$f":"'(男子)'!AA30","v":0},null,8,{"$f":"'(男子)'!AD30","v":0},{"$f":"'(男子)'!AF30","v":0},{"$f":"'(男子)'!AG30","v":0}]
["D5",null,"",null,null,"",null,"",null,"S9",null,"",null,null,null,null,"",null,null,null,null,"",null,9,{"$f":"'(男子)'!Y31","v":0},{"$f":"'(男子)'!Z31","v":0},{"$f":"'(男子)'!AA31","v":0},null,9,{"$f":"'(男子)'!AD31","v":0},{"$f":"'(男子)'!AF31","v":0},{"$f":"'(男子)'!AG31","v":0}]
[null,null,"",null,null,"",null,"",null,"S10",null,"",null,null,null,null,"",null,null,null,null,"",null,10,{"$f":"'(男子)'!Y32","v":0},{"$f":"'(男子)'!Z32","v":0},{"$f":"'(男子)'!AA32","v":0},null,10,{"$f":"'(男子)'!AD32","v":0},{"$f":"'(男子)'!AF32","v":0},{"$f":"'(男子)'!AG32","v":0}]
["D6",null,"",null,null,"",null,"",null,"S11",null,"",null,null,null,null,"",null,null,null,null,"",null,11,{"$f":"'(男子)'!Y33","v":0},{"$f":"'(男子)'!Z33","v":0},{"$f":"'(男子)'!AA33","v":0},null,11,{"$f":"'(男子)'!AD33","v":0},{"$f":"'(男子)'!AF33","v":0},{"$f":"'(男子)'!AG33","v":0}]
[null,null,"",null,null,"",null,"",null,"S12",null,"",null,null,null,null,"",null,null,null,null,"",null,12,{"$f":"'(男子)'!Y34","v":0},{"$f":"'(男子)'!Z34","v":0},{"$f":"'(男子)'!AA34","v":0},null,12,{"$f":"'(男子)'!AD34","v":0},{"$f":"'(男子)'!AF34","v":0},{"$f":"'(男子)'!AG34","v":0}]
["D7",null,"",null,null,"",null,"",null,"S13",null,"",null,null,null,null,"",null,null,null,null,"",null,13,{"$f":"'(男子)'!Y35","v":0},{"$f":"'(男子)'!Z35","v":0},{"$f":"'(男子)'!AA35","v":0},null,13,{"$f":"'(男子)'!AD35","v":0},{"$f":"'(男子)'!AF35","v":0},{"$f":"'(男子)'!AG35","v":0}]
[null,null,"",null,null,"",null,"",null,"S14",null,"",null,null,null,null,"",null,null,null,null,"",null,14,{"$f":"'(男子)'!Y36","v":0},{"$f":"'(男子)'!Z36","v":0},{"$f":"'(男子)'!AA36","v":0},null,14,{"$f":"'(男子)'!AD36","v":0},{"$f":"'(男子)'!AF36","v":0},{"$f":"'(男子)'!AG36","v":0}]
["D8",null,"",null,null,"",null,"",null,"S15",null,"",null,null,null,null,"",null,null,null,null,"",null,15,{"$f":"'(男子)'!Y37","v":0},{"$f":"'(男子)'!Z37","v":0},{"$f":"'(男子)'!AA37","v":0},null,15,{"$f":"'(男子)'!AD37","v":0},{"$f":"'(男子)'!AF37","v":0},{"$f":"'(男子)'!AG37","v":0}]
[null,null,"",null,null,"",null,"",null,"S16",null,"",null,null,null,null,"",null,null,null,null,"",null,16,{"$f":"'(男子)'!Y38","v":0},{"$f":"'(男子)'!Z38","v":0},{"$f":"'(男子)'!AA38","v":0},null,16,{"$f":"'(男子)'!AD38","v":0},{"$f":"'(男子)'!AF38","v":0},{"$f":"'(男子)'!AG38","v":0}]
["D9",null,"",null,null,"",null,"",null,"S17",null,"",null,null,null,null,"",null,null,null,null,"",null,17,{"$f":"'(男子)'!Y39","v":0},{"$f":"'(男子)'!Z39","v":0},{"$f":"'(男子)'!AA39","v":0},null,17,{"$f":"'(男子)'!AD39","v":0},{"$f":"'(男子)'!AF39","v":0},{"$f":"'(男子)'!AG39","v":0}]
[null,null,"",null,null,"",null,"",null,"S18",null,"",null,null,null,null,"",null,null,null,null,"",null,18,{"$f":"'(男子)'!Y40","v":0},{"$f":"'(男子)'!Z40","v":0},{"$f":"'(男子)'!AA40","v":0},null,18,{"$f":"'(男子)'!AD40","v":0},{"$f":"'(男子)'!AF40","v":0},{"$f":"'(男子)'!AG40","v":0}]
["D10",null,"",null,null,"",null,"",null,"S19",null,"",null,null,null,null,"",null,null,null,null,"",null,19,{"$f":"'(男子)'!Y41","v":0},{"$f":"'(男子)'!Z41","v":0},{"$f":"'(男子)'!AA41","v":0},null,19,{"$f":"'(男子)'!AD41","v":0},{"$f":"'(男子)'!AF41","v":0},{"$f":"'(男子)'!AG41","v":0}]
[null,null,"",null,null,"",null,"",null,"S20",null,"",null,null,null,null,"",null,null,null,null,"",null,20,{"$f":"'(男子)'!Y42","v":0},{"$f":"'(男子)'!Z42","v":0},{"$f":"'(男子)'!AA42","v":0},null,20,{"$f":"'(男子)'!AD42","v":0},{"$f":"'(男子)'!AF42","v":0},{"$f":"'(男子)'!AG42","v":0}]
["D11",null,"",null,null,"",null,"",null,"S21",null,"",null,null,null,null,"",null,null,null,null,"",null,21,{"$f":"'(男子)'!Y43","v":0},{"$f":"'(男子)'!Z43","v":0},{"$f":"'(男子)'!AA43","v":0},null,21,{"$f":"'(男子)'!AD43","v":0},{"$f":"'(男子)'!AF43","v":0},{"$f":"'(男子)'!AG43","v":0}]
[null,null,"",null,null,"",null,"",null,"S22",null,"",null,null,null,null,"",null,null,null,null,"",null,22,{"$f":"'(男子)'!Y44","v":0},{"$f":"'(男子)'!Z44","v":0},{"$f":"'(男子)'!AA44","v":0},null,22,{"$f":"'(男子)'!AD44","v":0},{"$f":"'(男子)'!AF44","v":0},{"$f":"'(男子)'!AG44","v":0}]
["D12",null,"",null,null,"",null,"",null,"S23",null,"",null,null,null,null,"",null,null,null,null,"",null,23,{"$f":"'(男子)'!Y45","v":0},{"$f":"'(男子)'!Z45","v":0},{"$f":"'(男子)'!AA45","v":0},null,23,{"$f":"'(男子)'!AD45","v":0},{"$f":"'(男子)'!AF45","v":0},{"$f":"'(男子)'!AG45","v":0}]
[null,null,"",null,null,"",null,"",null,"S24",null,"",null,null,null,null,"",null,null,null,null,"",null,24,{"$f":"'(男子)'!Y46","v":0},{"$f":"'(男子)'!Z46","v":0},{"$f":"'(男子)'!AA46","v":0},null,24,{"$f":"'(男子)'!AD46","v":0},{"$f":"'(男子)'!AF46","v":0},{"$f":"'(男子)'!AG46","v":0}]
[null,null,null,null,null,null,null,null,null,null,null,null,null,null,null,null,null,null,null,null,null,null,null,25,{"$f":"'(男子)'!Y47","v":0},{"$f":"'(男子)'!Z47","v":0},{"$f":"'(男子)'!AA47","v":0},null,25,{"$f":"'(男子)'!AD47","v":0},{"$f":"'(男子)'!AF47","v":0},{"$f":"'(男子)'!AG47","v":0}]
[null,null,null,null,null,null,null,null,null,null,null,null,null,null,null,null,null,null,null,null,null,null,null,26,{"$f":"'(男子)'!Y48","v":0},{"$f":"'(男子)'!Z48","v":0},{"$f":"'(男子)'!AA48","v":0},null,26,{"$f":"'(男子)'!AD48","v":0},{"$f":"'(男子)'!AF48","v":0},{"$f":"'(男子)'!AG48","v":0}]
[null,null,null,null,null,null,null,null,null,null,null,null,null,null,null,null,null,null,null,null,null,null,null,27,{"$f":"'(男子)'!Y49","v":0},{"$f":"'(男子)'!Z49","v":0},{"$f":"'(男子)'!AA49","v":0},null,27,{"$f":"'(男子)'!AD49","v":0},{"$f":"'(男子)'!AF49","v":0},{"$f":"'(男子)'!AG49","v":0}]
[null,null,null,null,null,null,null,null,null,null,null,null,null,null,null,null,null,null,null,null,null,null,null,28,{"$f":"'(男子)'!Y50","v":0},{"$f":"'(男子)'!Z50","v":0},{"$f":"'(男子)'!AA50","v":0},null,28,{"$f":"'(男子)'!AD50","v":0},{"$f":"'(男子)'!AF50","v":0},{"$f":"'(男子)'!AG50","v":0}]
[null,null,null,null,null,null,null,null,null,null,null,null,null,null,null,null,null,null,null,null,null,null,null,29,{"$f":"'(男子)'!Y51","v":0},{"$f":"'(男子)'!Z51","v":0},{"$f":"'(男子)'!AA51","v":0},null,29,{"$f":"'(男子)'!AD51","v":0},{"$f":"'(男子)'!AF51","v":0},{"$f":"'(男子)'!AG51","v":0}]
[null,null,null,null,null,null,null,null,null,null,null,null,null,null,null,null,null,null,null,null,null,null,null,30,{"$f":"'(男子)'!Y52","v":0},{"$f":"'(男子)'!Z52","v":0},{"$f":"'(男子)'!AA52","v":0},null,30,{"$f":"'(男子)'!AD52","v":0},{"$f":"'(男子)'!AF52","v":0},{"$f":"'(男子)'!AG52","v":0}]

{"sheet":"(学校名・大会名)","index":3,"n_rows":35,"n_cols":6,"rows_kept":35,"cut":false,"hidden":false,"merged":[[0,1,0,5],[2,1,2,5]]}
[null,"学校名・大会名の事前入力"]
[null,"このシートは大会を運営する担当者が事前に入力して各校に配布してください"]
[null,"※学校№と学校名は【S-system】準備運営と同じにしてください\n\n※大会参加料に変更がある場合は（男子）のシートの該当箇所を訂正してください"]
[null,"学校№","学校名",null,null,"大会名"]
[null,101,"小樽潮陵高等学校",null,1,"高体連小樽支部バドミントン選手権大会"]
[null,102,"小樽桜陽高等学校",null,2,"小樽地区高校春季バドミントン選手権大会"]
[null,103,"小樽未来創造高等学校",null,3,"小樽地区バドミントン選手権大会（高校の部）"]
[null,104,"小樽水産高等学校",null,4,"小樽市民大会バドミントン競技会（高校の部）"]
[null,105,"北照高等学校",null,5,"後志地区バドミントン大会（新人戦）"]
[null,106,"小樽明峰高等学校",null,6,"小樽地区高校秋季バドミントン選手権大会"]
[null,107,"小樽双葉高等学校",null,7,"小樽冬季バドミントン大会（高校の部）"]
[null,108,"北海道高等聾学校",null,8]
[null,109,"寿都高等学校",null,9]
[null,110,"蘭越高等学校",null,10]
[null,111,"倶知安高等学校",null,11]
[null,112,"岩内高等学校",null,12]
[null,113,"余市紅志高等学校",null,13]
[null,114,"留寿都高等学校",null,14]
[null,115,"ニセコ高等学校",null,15]
[null,116,"倶知安農業高等学校"]
[null,117,"北星学園余市高等学校"]
[null,118]
[null,119]
[null,120]
[null,121]
[null,122]
[null,123]
[null,124]
[null,125]
[null,126]
[null,127]
[null,128]
[null,129]
[null,130]
[null,null,{"$f":"COUNTA(C5:C34)","v":17}]